Package: UniProt.ws Version: 2.47.6 Command: /Library/Frameworks/R.framework/Resources/bin/R CMD INSTALL UniProt.ws StartedAt: 2025-02-17 15:12:38 -0500 (Mon, 17 Feb 2025) EndedAt: 2025-02-17 15:12:58 -0500 (Mon, 17 Feb 2025) EllapsedTime: 19.9 seconds RetCode: 0 Status: OK