Package: UniProt.ws Version: 2.47.6 Command: /Library/Frameworks/R.framework/Resources/bin/R CMD build --keep-empty-dirs --no-resave-data UniProt.ws StartedAt: 2025-02-17 18:33:28 -0500 (Mon, 17 Feb 2025) EndedAt: 2025-02-17 18:33:55 -0500 (Mon, 17 Feb 2025) EllapsedTime: 27.3 seconds RetCode: 0 Status: OK PackageFile: UniProt.ws_2.47.6.tar.gz PackageFileSize: 240.3 KiB