Package: UniProt.ws Version: 2.47.6 Command: /home/biocbuild/R/R/bin/R CMD build --keep-empty-dirs --no-resave-data UniProt.ws StartedAt: 2025-01-28 03:05:40 -0000 (Tue, 28 Jan 2025) EndedAt: 2025-01-28 03:06:15 -0000 (Tue, 28 Jan 2025) EllapsedTime: 35.0 seconds RetCode: 0 Status: OK PackageFile: UniProt.ws_2.47.6.tar.gz PackageFileSize: 266.4 KiB