Package: UniProt.ws Version: 2.47.6 Command: /Library/Frameworks/R.framework/Resources/bin/R CMD INSTALL UniProt.ws StartedAt: 2025-02-17 15:07:14 -0500 (Mon, 17 Feb 2025) EndedAt: 2025-02-17 15:07:20 -0500 (Mon, 17 Feb 2025) EllapsedTime: 6.0 seconds RetCode: 0 Status: OK