Package: Ularcirc Version: 1.25.0 Command: chmod a+r Ularcirc -R && E:\biocbuild\bbs-3.21-bioc\R\bin\R.exe CMD build --keep-empty-dirs --no-resave-data Ularcirc StartedAt: 2025-02-20 22:23:22 -0500 (Thu, 20 Feb 2025) EndedAt: 2025-02-20 22:23:45 -0500 (Thu, 20 Feb 2025) EllapsedTime: 23.3 seconds RetCode: 0 Status: OK PackageFile: Ularcirc_1.25.0.tar.gz PackageFileSize: 5.214 MiB