Package: Ularcirc Version: 1.25.0 Command: rm -rf Ularcirc.buildbin-libdir && mkdir Ularcirc.buildbin-libdir && E:\biocbuild\bbs-3.21-bioc\R\bin\R.exe CMD INSTALL --build --library=Ularcirc.buildbin-libdir Ularcirc_1.25.0.tar.gz StartedAt: 2025-02-21 09:19:57 -0500 (Fri, 21 Feb 2025) EndedAt: 2025-02-21 09:20:20 -0500 (Fri, 21 Feb 2025) EllapsedTime: 23.1 seconds RetCode: 0 Status: OK PackageFile: Ularcirc_1.25.0.zip PackageFileSize: 4.854 MiB