Package: Ularcirc Version: 1.25.0 Command: /home/biocbuild/bbs-3.21-bioc/R/bin/R CMD INSTALL Ularcirc StartedAt: 2025-02-20 15:54:51 -0500 (Thu, 20 Feb 2025) EndedAt: 2025-02-20 15:55:01 -0500 (Thu, 20 Feb 2025) EllapsedTime: 9.8 seconds RetCode: 0 Status: OK