Package: UPDhmm Version: 1.3.0 Command: E:\biocbuild\bbs-3.21-bioc\R\bin\R.exe CMD check --no-multiarch --install=check:UPDhmm.install-out.txt --library=E:\biocbuild\bbs-3.21-bioc\R\library --no-vignettes --timings UPDhmm_1.3.0.tar.gz StartedAt: 2025-02-21 06:48:02 -0500 (Fri, 21 Feb 2025) EndedAt: 2025-02-21 06:49:25 -0500 (Fri, 21 Feb 2025) EllapsedTime: 83.1 seconds RetCode: 0 Status: OK CheckDir: UPDhmm.Rcheck Warnings: 0