Package: UPDhmm Version: 1.3.0 Command: /home/biocbuild/bbs-3.21-bioc/R/bin/R CMD INSTALL UPDhmm StartedAt: 2025-02-20 15:54:33 -0500 (Thu, 20 Feb 2025) EndedAt: 2025-02-20 15:54:35 -0500 (Thu, 20 Feb 2025) EllapsedTime: 2.0 seconds RetCode: 0 Status: OK