Package: UPDhmm Version: 1.3.0 Command: /home/biocbuild/bbs-3.21-bioc/R/bin/R CMD check --install=check:UPDhmm.install-out.txt --library=/home/biocbuild/bbs-3.21-bioc/R/site-library --timings UPDhmm_1.3.0.tar.gz StartedAt: 2025-02-21 02:46:47 -0500 (Fri, 21 Feb 2025) EndedAt: 2025-02-21 02:48:06 -0500 (Fri, 21 Feb 2025) EllapsedTime: 79.1 seconds RetCode: 0 Status: OK CheckDir: UPDhmm.Rcheck Warnings: 0