Package: UPDhmm Version: 1.3.0 Command: /home/biocbuild/bbs-3.21-bioc/R/bin/R CMD build --keep-empty-dirs --no-resave-data UPDhmm StartedAt: 2025-02-20 19:41:36 -0500 (Thu, 20 Feb 2025) EndedAt: 2025-02-20 19:41:59 -0500 (Thu, 20 Feb 2025) EllapsedTime: 23.0 seconds RetCode: 0 Status: OK PackageFile: UPDhmm_1.3.0.tar.gz PackageFileSize: 295.3 KiB