Package: UPDhmm Version: 1.3.0 Command: /Library/Frameworks/R.framework/Resources/bin/R CMD INSTALL UPDhmm StartedAt: 2025-02-21 15:27:30 -0500 (Fri, 21 Feb 2025) EndedAt: 2025-02-21 15:27:34 -0500 (Fri, 21 Feb 2025) EllapsedTime: 4.1 seconds RetCode: 0 Status: OK