Package: UNDO Version: 1.49.0 Command: rm -rf UNDO.buildbin-libdir && mkdir UNDO.buildbin-libdir && E:\biocbuild\bbs-3.21-bioc\R\bin\R.exe CMD INSTALL --build --library=UNDO.buildbin-libdir UNDO_1.49.0.tar.gz StartedAt: 2025-02-21 09:19:59 -0500 (Fri, 21 Feb 2025) EndedAt: 2025-02-21 09:20:10 -0500 (Fri, 21 Feb 2025) EllapsedTime: 10.5 seconds RetCode: 0 Status: OK PackageFile: UNDO_1.49.0.zip PackageFileSize: 2.818 MiB