Package: UNDO Version: 1.49.0 Command: /home/biocbuild/R/R/bin/R CMD INSTALL UNDO StartedAt: 2025-01-29 19:31:19 -0000 (Wed, 29 Jan 2025) EndedAt: 2025-01-29 19:31:31 -0000 (Wed, 29 Jan 2025) EllapsedTime: 12.3 seconds RetCode: 0 Status: OK