Package: UMI4Cats Version: 1.17.0 Command: rm -rf UMI4Cats.buildbin-libdir && mkdir UMI4Cats.buildbin-libdir && /Users/biocbuild/BBS/utils/build-universal.sh UMI4Cats_1.17.0.tar.gz /Library/Frameworks/R.framework/Resources/bin/R UMI4Cats.buildbin-libdir StartedAt: 2025-02-20 22:38:56 -0500 (Thu, 20 Feb 2025) EndedAt: 2025-02-20 22:39:15 -0500 (Thu, 20 Feb 2025) EllapsedTime: 18.4 seconds RetCode: 0 Status: OK PackageFile: UMI4Cats_1.17.0.tgz PackageFileSize: 3.316 MiB