Package: UCell Version: 2.11.1 Command: rm -rf UCell.buildbin-libdir && mkdir UCell.buildbin-libdir && E:\biocbuild\bbs-3.21-bioc\R\bin\R.exe CMD INSTALL --build --library=UCell.buildbin-libdir UCell_2.11.1.tar.gz StartedAt: 2025-02-20 08:59:35 -0500 (Thu, 20 Feb 2025) EndedAt: 2025-02-20 09:00:04 -0500 (Thu, 20 Feb 2025) EllapsedTime: 29.3 seconds RetCode: 0 Status: OK PackageFile: UCell_2.11.1.zip PackageFileSize: 1.418 MiB