Package: UCell Version: 2.11.1 Command: /Library/Frameworks/R.framework/Resources/bin/R CMD check --install=check:UCell.install-out.txt --library=/Library/Frameworks/R.framework/Resources/library --no-vignettes --timings UCell_2.11.1.tar.gz StartedAt: 2025-02-19 23:56:12 -0500 (Wed, 19 Feb 2025) EndedAt: 2025-02-19 23:59:31 -0500 (Wed, 19 Feb 2025) EllapsedTime: 198.4 seconds RetCode: 0 Status: OK CheckDir: UCell.Rcheck Warnings: 0