Package: UCSC.utils Version: 1.3.1 Command: chmod a+r UCSC.utils -R && E:\biocbuild\bbs-3.21-bioc\R\bin\R.exe CMD build --keep-empty-dirs --no-resave-data UCSC.utils StartedAt: 2025-02-19 22:13:33 -0500 (Wed, 19 Feb 2025) EndedAt: 2025-02-19 22:13:52 -0500 (Wed, 19 Feb 2025) EllapsedTime: 18.7 seconds RetCode: 0 Status: OK PackageFile: UCSC.utils_1.3.1.tar.gz PackageFileSize: 230.6 KiB