Package: UCSC.utils Version: 1.3.1 Command: /Library/Frameworks/R.framework/Resources/bin/R CMD build --keep-empty-dirs --no-resave-data UCSC.utils StartedAt: 2025-02-20 18:34:58 -0500 (Thu, 20 Feb 2025) EndedAt: 2025-02-20 18:35:13 -0500 (Thu, 20 Feb 2025) EllapsedTime: 14.9 seconds RetCode: 0 Status: OK PackageFile: UCSC.utils_1.3.1.tar.gz PackageFileSize: 230.5 KiB