Package: UCSC.utils Version: 1.3.1 Command: /home/biocbuild/R/R/bin/R CMD INSTALL UCSC.utils StartedAt: 2025-01-29 19:36:20 -0000 (Wed, 29 Jan 2025) EndedAt: 2025-01-29 19:36:42 -0000 (Wed, 29 Jan 2025) EllapsedTime: 22.2 seconds RetCode: 0 Status: OK