Package: UCSC.utils Version: 1.3.1 Command: /Library/Frameworks/R.framework/Resources/bin/R CMD check --install=check:UCSC.utils.install-out.txt --library=/Library/Frameworks/R.framework/Resources/library --no-vignettes --timings UCSC.utils_1.3.1.tar.gz StartedAt: 2025-02-20 21:56:34 -0500 (Thu, 20 Feb 2025) EndedAt: 2025-02-20 21:57:11 -0500 (Thu, 20 Feb 2025) EllapsedTime: 36.4 seconds RetCode: 0 Status: OK CheckDir: UCSC.utils.Rcheck Warnings: 0