Package: TurboNorm Version: 1.55.0 Command: E:\biocbuild\bbs-3.21-bioc\R\bin\R.exe CMD INSTALL TurboNorm StartedAt: 2025-02-20 15:25:46 -0500 (Thu, 20 Feb 2025) EndedAt: 2025-02-20 15:25:57 -0500 (Thu, 20 Feb 2025) EllapsedTime: 11.0 seconds RetCode: 0 Status: OK