Package: TurboNorm Version: 1.55.0 Command: /home/biocbuild/bbs-3.21-bioc/R/bin/R CMD build --keep-empty-dirs --no-resave-data TurboNorm StartedAt: 2025-02-20 19:39:56 -0500 (Thu, 20 Feb 2025) EndedAt: 2025-02-20 19:40:09 -0500 (Thu, 20 Feb 2025) EllapsedTime: 13.0 seconds RetCode: 0 Status: OK PackageFile: TurboNorm_1.55.0.tar.gz PackageFileSize: 2.021 MiB