Package: TurboNorm Version: 1.55.0 Command: /Library/Frameworks/R.framework/Resources/bin/R CMD INSTALL TurboNorm StartedAt: 2025-02-20 15:07:30 -0500 (Thu, 20 Feb 2025) EndedAt: 2025-02-20 15:08:04 -0500 (Thu, 20 Feb 2025) EllapsedTime: 34.0 seconds RetCode: 0 Status: OK