Package: TurboNorm Version: 1.55.0 Command: rm -rf TurboNorm.buildbin-libdir && mkdir TurboNorm.buildbin-libdir && /Users/biocbuild/BBS/utils/build-universal.sh TurboNorm_1.55.0.tar.gz /Library/Frameworks/R.framework/Resources/bin/R TurboNorm.buildbin-libdir StartedAt: 2025-02-21 00:58:28 -0500 (Fri, 21 Feb 2025) EndedAt: 2025-02-21 00:58:38 -0500 (Fri, 21 Feb 2025) EllapsedTime: 10.4 seconds RetCode: 0 Status: OK PackageFile: TurboNorm_1.55.0.tgz PackageFileSize: 2.049 MiB