Package: TreeSummarizedExperiment Version: 2.15.0 Command: E:\biocbuild\bbs-3.21-bioc\R\bin\R.exe CMD check --no-multiarch --install=check:TreeSummarizedExperiment.install-out.txt --library=E:\biocbuild\bbs-3.21-bioc\R\library --no-vignettes --timings TreeSummarizedExperiment_2.15.0.tar.gz StartedAt: 2025-02-21 06:40:46 -0500 (Fri, 21 Feb 2025) EndedAt: 2025-02-21 06:46:22 -0500 (Fri, 21 Feb 2025) EllapsedTime: 335.3 seconds RetCode: 0 Status: OK CheckDir: TreeSummarizedExperiment.Rcheck Warnings: 0