Package: TreeSummarizedExperiment Version: 2.15.0 Command: chmod a+r TreeSummarizedExperiment -R && E:\biocbuild\bbs-3.21-bioc\R\bin\R.exe CMD build --keep-empty-dirs --no-resave-data TreeSummarizedExperiment StartedAt: 2025-02-20 22:20:27 -0500 (Thu, 20 Feb 2025) EndedAt: 2025-02-20 22:23:12 -0500 (Thu, 20 Feb 2025) EllapsedTime: 165.2 seconds RetCode: 0 Status: OK PackageFile: TreeSummarizedExperiment_2.15.0.tar.gz PackageFileSize: 1011 KiB