Package: TreeSummarizedExperiment Version: 2.15.0 Command: rm -rf TreeSummarizedExperiment.buildbin-libdir && mkdir TreeSummarizedExperiment.buildbin-libdir && E:\biocbuild\bbs-3.21-bioc\R\bin\R.exe CMD INSTALL --build --library=TreeSummarizedExperiment.buildbin-libdir TreeSummarizedExperiment_2.15.0.tar.gz StartedAt: 2025-02-21 09:18:43 -0500 (Fri, 21 Feb 2025) EndedAt: 2025-02-21 09:23:51 -0500 (Fri, 21 Feb 2025) EllapsedTime: 308.1 seconds RetCode: 0 Status: OK PackageFile: TreeSummarizedExperiment_2.15.0.zip PackageFileSize: 1.727 MiB