Package: TreeSummarizedExperiment Version: 2.15.0 Command: /Library/Frameworks/R.framework/Resources/bin/R CMD check --install=check:TreeSummarizedExperiment.install-out.txt --library=/Library/Frameworks/R.framework/Resources/library --no-vignettes --timings TreeSummarizedExperiment_2.15.0.tar.gz StartedAt: 2025-02-20 23:50:26 -0500 (Thu, 20 Feb 2025) EndedAt: 2025-02-20 23:57:00 -0500 (Thu, 20 Feb 2025) EllapsedTime: 393.5 seconds RetCode: 0 Status: OK CheckDir: TreeSummarizedExperiment.Rcheck Warnings: 0