Package: TreeSummarizedExperiment Version: 2.15.0 Command: /Library/Frameworks/R.framework/Resources/bin/R CMD build --keep-empty-dirs --no-resave-data TreeSummarizedExperiment StartedAt: 2025-02-20 18:33:37 -0500 (Thu, 20 Feb 2025) EndedAt: 2025-02-20 18:34:41 -0500 (Thu, 20 Feb 2025) EllapsedTime: 64.2 seconds RetCode: 0 Status: OK PackageFile: TreeSummarizedExperiment_2.15.0.tar.gz PackageFileSize: 1.104 MiB