Package: TreeSummarizedExperiment Version: 2.16.1 Command: /Library/Frameworks/R.framework/Resources/bin/R CMD build --keep-empty-dirs --no-resave-data TreeSummarizedExperiment StartedAt: 2025-10-14 11:23:46 -0400 (Tue, 14 Oct 2025) EndedAt: 2025-10-14 11:25:00 -0400 (Tue, 14 Oct 2025) EllapsedTime: 73.6 seconds RetCode: 0 Status: OK PackageFile: TreeSummarizedExperiment_2.16.1.tar.gz PackageFileSize: 1.104 MiB