Package: TreeSummarizedExperiment Version: 2.16.1 Command: rm -rf TreeSummarizedExperiment.buildbin-libdir && mkdir TreeSummarizedExperiment.buildbin-libdir && /Users/biocbuild/BBS/utils/build-universal.sh TreeSummarizedExperiment_2.16.1.tar.gz /Library/Frameworks/R.framework/Resources/bin/R TreeSummarizedExperiment.buildbin-libdir StartedAt: 2025-10-15 20:54:49 -0400 (Wed, 15 Oct 2025) EndedAt: 2025-10-15 20:55:31 -0400 (Wed, 15 Oct 2025) EllapsedTime: 41.6 seconds RetCode: 0 Status: OK PackageFile: TreeSummarizedExperiment_2.16.1.tgz PackageFileSize: 1.835 MiB