Package: TreeAndLeaf Version: 1.19.0 Command: E:\biocbuild\bbs-3.21-bioc\R\bin\R.exe CMD check --no-multiarch --install=check:TreeAndLeaf.install-out.txt --library=E:\biocbuild\bbs-3.21-bioc\R\library --no-vignettes --timings TreeAndLeaf_1.19.0.tar.gz StartedAt: 2025-02-20 06:22:58 -0500 (Thu, 20 Feb 2025) EndedAt: 2025-02-20 06:24:11 -0500 (Thu, 20 Feb 2025) EllapsedTime: 73.0 seconds RetCode: 0 Status: OK CheckDir: TreeAndLeaf.Rcheck Warnings: 0