Package: TreeAndLeaf Version: 1.19.0 Command: rm -rf TreeAndLeaf.buildbin-libdir && mkdir TreeAndLeaf.buildbin-libdir && E:\biocbuild\bbs-3.21-bioc\R\bin\R.exe CMD INSTALL --build --library=TreeAndLeaf.buildbin-libdir TreeAndLeaf_1.19.0.tar.gz StartedAt: 2025-02-20 08:58:16 -0500 (Thu, 20 Feb 2025) EndedAt: 2025-02-20 08:58:24 -0500 (Thu, 20 Feb 2025) EllapsedTime: 8.5 seconds RetCode: 0 Status: OK PackageFile: TreeAndLeaf_1.19.0.zip PackageFileSize: 3.134 MiB