Package: TreeAndLeaf Version: 1.19.0 Command: /Library/Frameworks/R.framework/Resources/bin/R CMD build --keep-empty-dirs --no-resave-data TreeAndLeaf StartedAt: 2025-02-18 18:31:07 -0500 (Tue, 18 Feb 2025) EndedAt: 2025-02-18 18:31:23 -0500 (Tue, 18 Feb 2025) EllapsedTime: 16.0 seconds RetCode: 0 Status: OK PackageFile: TreeAndLeaf_1.19.0.tar.gz PackageFileSize: 5.623 MiB