Package: TreeAndLeaf Version: 1.19.0 Command: /Library/Frameworks/R.framework/Resources/bin/R CMD build --keep-empty-dirs --no-resave-data TreeAndLeaf StartedAt: 2025-02-19 17:51:17 -0500 (Wed, 19 Feb 2025) EndedAt: 2025-02-19 17:51:23 -0500 (Wed, 19 Feb 2025) EllapsedTime: 6.1 seconds RetCode: 0 Status: OK PackageFile: TreeAndLeaf_1.19.0.tar.gz PackageFileSize: 5.623 MiB