Package: TransView Version: 1.51.2 Command: E:\biocbuild\bbs-3.21-bioc\R\bin\R.exe CMD check --no-multiarch --install=check:TransView.install-out.txt --library=E:\biocbuild\bbs-3.21-bioc\R\library --no-vignettes --timings TransView_1.51.2.tar.gz StartedAt: 2025-02-21 06:38:33 -0500 (Fri, 21 Feb 2025) EndedAt: 2025-02-21 06:42:01 -0500 (Fri, 21 Feb 2025) EllapsedTime: 208.3 seconds RetCode: 0 Status: OK CheckDir: TransView.Rcheck Warnings: 0