Package: TransView Version: 1.51.2 Command: chmod a+r TransView -R && E:\biocbuild\bbs-3.21-bioc\R\bin\R.exe CMD build --keep-empty-dirs --no-resave-data TransView StartedAt: 2025-02-20 22:19:45 -0500 (Thu, 20 Feb 2025) EndedAt: 2025-02-20 22:20:55 -0500 (Thu, 20 Feb 2025) EllapsedTime: 69.5 seconds RetCode: 0 Status: OK PackageFile: TransView_1.51.2.tar.gz PackageFileSize: 1.781 MiB