Package: TransView Version: 1.51.2 Command: rm -rf TransView.buildbin-libdir && mkdir TransView.buildbin-libdir && E:\biocbuild\bbs-3.21-bioc\R\bin\R.exe CMD INSTALL --build --library=TransView.buildbin-libdir TransView_1.51.2.tar.gz StartedAt: 2025-02-21 09:18:10 -0500 (Fri, 21 Feb 2025) EndedAt: 2025-02-21 09:19:19 -0500 (Fri, 21 Feb 2025) EllapsedTime: 68.7 seconds RetCode: 0 Status: OK PackageFile: TransView_1.51.2.zip PackageFileSize: 6.294 MiB