Package: TransView Version: 1.51.2 Command: rm -rf TransView.buildbin-libdir && mkdir TransView.buildbin-libdir && /Users/biocbuild/BBS/utils/build-universal.sh TransView_1.51.2.tar.gz /Library/Frameworks/R.framework/Resources/bin/R TransView.buildbin-libdir StartedAt: 2025-02-20 00:59:23 -0500 (Thu, 20 Feb 2025) EndedAt: 2025-02-20 00:59:52 -0500 (Thu, 20 Feb 2025) EllapsedTime: 28.8 seconds RetCode: 0 Status: OK PackageFile: TransView_1.51.2.tgz PackageFileSize: 2.136 MiB