Package: TransView Version: 1.51.2 Command: /Library/Frameworks/R.framework/Resources/bin/R CMD build --keep-empty-dirs --no-resave-data TransView StartedAt: 2025-02-20 17:49:40 -0500 (Thu, 20 Feb 2025) EndedAt: 2025-02-20 17:49:54 -0500 (Thu, 20 Feb 2025) EllapsedTime: 14.2 seconds RetCode: 0 Status: OK PackageFile: TransView_1.51.2.tar.gz PackageFileSize: 1.819 MiB