Package: TrajectoryUtils Version: 1.15.0 Command: rm -rf TrajectoryUtils.buildbin-libdir && mkdir TrajectoryUtils.buildbin-libdir && E:\biocbuild\bbs-3.21-bioc\R\bin\R.exe CMD INSTALL --build --library=TrajectoryUtils.buildbin-libdir TrajectoryUtils_1.15.0.tar.gz StartedAt: 2025-02-21 09:17:50 -0500 (Fri, 21 Feb 2025) EndedAt: 2025-02-21 09:18:40 -0500 (Fri, 21 Feb 2025) EllapsedTime: 49.6 seconds RetCode: 0 Status: OK PackageFile: TrajectoryUtils_1.15.0.zip PackageFileSize: 552.3 KiB