Package: TrajectoryUtils Version: 1.15.0 Command: /home/biocbuild/bbs-3.21-bioc/R/bin/R CMD build --keep-empty-dirs --no-resave-data TrajectoryUtils StartedAt: 2025-02-20 19:37:46 -0500 (Thu, 20 Feb 2025) EndedAt: 2025-02-20 19:38:20 -0500 (Thu, 20 Feb 2025) EllapsedTime: 34.0 seconds RetCode: 0 Status: OK PackageFile: TrajectoryUtils_1.15.0.tar.gz PackageFileSize: 337.3 KiB