Package: TrajectoryUtils Version: 1.16.1 Command: /Library/Frameworks/R.framework/Resources/bin/R CMD INSTALL TrajectoryUtils StartedAt: 2025-10-09 16:37:03 -0400 (Thu, 09 Oct 2025) EndedAt: 2025-10-09 16:37:33 -0400 (Thu, 09 Oct 2025) EllapsedTime: 29.9 seconds RetCode: 0 Status: OK