Package: TrajectoryUtils Version: 1.16.1 Command: /Library/Frameworks/R.framework/Resources/bin/R CMD build --keep-empty-dirs --no-resave-data TrajectoryUtils StartedAt: 2025-10-10 11:41:10 -0400 (Fri, 10 Oct 2025) EndedAt: 2025-10-10 11:41:56 -0400 (Fri, 10 Oct 2025) EllapsedTime: 46.0 seconds RetCode: 0 Status: OK PackageFile: TrajectoryUtils_1.16.1.tar.gz PackageFileSize: 341.3 KiB