Package: TrajectoryGeometry Version: 1.15.0 Command: /home/biocbuild/bbs-3.21-bioc/R/bin/R CMD check --install=check:TrajectoryGeometry.install-out.txt --library=/home/biocbuild/bbs-3.21-bioc/R/site-library --timings TrajectoryGeometry_1.15.0.tar.gz StartedAt: 2025-02-18 03:01:45 -0500 (Tue, 18 Feb 2025) EndedAt: 2025-02-18 03:07:38 -0500 (Tue, 18 Feb 2025) EllapsedTime: 352.4 seconds RetCode: 0 Status: OK CheckDir: TrajectoryGeometry.Rcheck Warnings: 0