Package: TrajectoryGeometry Version: 1.16.0 Command: /Library/Frameworks/R.framework/Resources/bin/R CMD INSTALL TrajectoryGeometry StartedAt: 2025-10-13 15:14:18 -0400 (Mon, 13 Oct 2025) EndedAt: 2025-10-13 15:15:09 -0400 (Mon, 13 Oct 2025) EllapsedTime: 50.7 seconds RetCode: 0 Status: OK