Package: TrajectoryGeometry Version: 1.15.0 Command: /Library/Frameworks/R.framework/Resources/bin/R CMD INSTALL TrajectoryGeometry StartedAt: 2025-02-17 15:23:41 -0500 (Mon, 17 Feb 2025) EndedAt: 2025-02-17 15:23:51 -0500 (Mon, 17 Feb 2025) EllapsedTime: 10.1 seconds RetCode: 0 Status: OK