Package: TrajectoryGeometry Version: 1.16.0 Command: /Library/Frameworks/R.framework/Resources/bin/R CMD INSTALL TrajectoryGeometry StartedAt: 2025-09-29 15:25:56 -0400 (Mon, 29 Sep 2025) EndedAt: 2025-09-29 15:26:04 -0400 (Mon, 29 Sep 2025) EllapsedTime: 8.7 seconds RetCode: 0 Status: OK