Package: TrajectoryGeometry Version: 1.16.0 Command: rm -rf TrajectoryGeometry.buildbin-libdir && mkdir TrajectoryGeometry.buildbin-libdir && /Users/biocbuild/BBS/utils/build-universal.sh TrajectoryGeometry_1.16.0.tar.gz /Library/Frameworks/R.framework/Resources/bin/R TrajectoryGeometry.buildbin-libdir StartedAt: 2025-10-01 20:53:05 -0400 (Wed, 01 Oct 2025) EndedAt: 2025-10-01 20:53:15 -0400 (Wed, 01 Oct 2025) EllapsedTime: 9.1 seconds RetCode: 0 Status: OK PackageFile: TrajectoryGeometry_1.16.0.tgz PackageFileSize: 1.36 MiB